BEGIN:VCALENDAR
VERSION:2.0
PRODID:-//YouthReach Malta - ECPv5.1.2.1//NONSGML v1.0//EN
CALSCALE:GREGORIAN
METHOD:PUBLISH
X-WR-CALNAME:YouthReach Malta
X-ORIGINAL-URL:https://youthreachmalta.org
X-WR-CALDESC:Events for YouthReach Malta
BEGIN:VTIMEZONE
TZID:Europe/Malta
BEGIN:DAYLIGHT
TZOFFSETFROM:+0100
TZOFFSETTO:+0200
TZNAME:CEST
DTSTART:20190331T010000
END:DAYLIGHT
BEGIN:STANDARD
TZOFFSETFROM:+0200
TZOFFSETTO:+0100
TZNAME:CET
DTSTART:20191027T010000
END:STANDARD
END:VTIMEZONE
BEGIN:VEVENT
DTSTART;TZID=Europe/Malta:20191210T181500
DTEND;TZID=Europe/Malta:20191210T194500
DTSTAMP:20260424T214659
CREATED:20191103T111325Z
LAST-MODIFIED:20191206T124752Z
UID:4204-1576001700-1576007100@youthreachmalta.org
SUMMARY:Christmas Movie (YR:13+ & YR:16+)
DESCRIPTION:Dear Reaches\, what’s better than a Christmas movie\, some popcorn and a hot chocolate during this time of the year? 🙂 \nThis event is open for both groups YR13+ and YR16+ \n
URL:https://youthreachmalta.org/event/christmas-cake-sale-yr13-yr16/
CATEGORIES:Social
ATTACH;FMTTYPE=image/jpeg:https://youthreachmalta.org/wp-content/uploads/2019/11/Noelle-2019.jpg
END:VEVENT
END:VCALENDAR