BEGIN:VCALENDAR
VERSION:2.0
PRODID:-//YouthReach Malta - ECPv5.1.2.1//NONSGML v1.0//EN
CALSCALE:GREGORIAN
METHOD:PUBLISH
X-WR-CALNAME:YouthReach Malta
X-ORIGINAL-URL:https://youthreachmalta.org
X-WR-CALDESC:Events for YouthReach Malta
BEGIN:VTIMEZONE
TZID:Europe/Malta
BEGIN:DAYLIGHT
TZOFFSETFROM:+0100
TZOFFSETTO:+0200
TZNAME:CEST
DTSTART:20190331T010000
END:DAYLIGHT
BEGIN:STANDARD
TZOFFSETFROM:+0200
TZOFFSETTO:+0100
TZNAME:CET
DTSTART:20191027T010000
END:STANDARD
END:VTIMEZONE
BEGIN:VEVENT
DTSTART;TZID=Europe/Malta:20191203T181500
DTEND;TZID=Europe/Malta:20191203T194500
DTSTAMP:20260419T160755
CREATED:20191010T145313Z
LAST-MODIFIED:20191127T154636Z
UID:4162-1575396900-1575402300@youthreachmalta.org
SUMMARY:Christmassy Games (YR:13+ & YR:16+)
DESCRIPTION:Tis the season to be jolly!\nIt’s one of the most beautiful times of the year 🙂 and we are prepared to start gearing up for Christmas. One of the best things during this period is the time we get to spend together and therefore we are planning some fun filled games ..but this time Christmas Themed games!\nThose of you that have Christmas jumpers or headbands or any other related Christmassy things\, get them along 😀 \n
URL:https://youthreachmalta.org/event/christmassy-games/
LOCATION:Attard Youth Centre\, Attard Youth Centre\, Triq Ħal-Warda\, Attard\, Malta
CATEGORIES:Social
ATTACH;FMTTYPE=image/png:https://youthreachmalta.org/wp-content/uploads/2019/10/Christmas-games.png
ORGANIZER;CN="YouthReach":MAILTO:info@youthreachmalta.org
END:VEVENT
END:VCALENDAR