BEGIN:VCALENDAR
VERSION:2.0
PRODID:-//YouthReach Malta - ECPv5.1.2.1//NONSGML v1.0//EN
CALSCALE:GREGORIAN
METHOD:PUBLISH
X-WR-CALNAME:YouthReach Malta
X-ORIGINAL-URL:https://youthreachmalta.org
X-WR-CALDESC:Events for YouthReach Malta
BEGIN:VTIMEZONE
TZID:Europe/Malta
BEGIN:DAYLIGHT
TZOFFSETFROM:+0100
TZOFFSETTO:+0200
TZNAME:CEST
DTSTART:20180325T010000
END:DAYLIGHT
BEGIN:STANDARD
TZOFFSETFROM:+0200
TZOFFSETTO:+0100
TZNAME:CET
DTSTART:20181028T010000
END:STANDARD
END:VTIMEZONE
BEGIN:VEVENT
DTSTART;TZID=Europe/Malta:20180405T203000
DTEND;TZID=Europe/Malta:20180405T203000
DTSTAMP:20260423T092441
CREATED:20180328T172936Z
LAST-MODIFIED:20180404T134354Z
UID:3884-1522960200-1522960200@youthreachmalta.org
SUMMARY:Cranium Night
DESCRIPTION:Are you good with words & numbers? Do you know your way through art & performance?? Are you someone who likes to think outside the box?? Then this is the night for you!! Come and join us this Thursday 5th April @ 8.30 pm for a night of fun and laughter. With your presence help us make this Thursday a memorable one for everyone. \n
URL:https://youthreachmalta.org/event/cranium-night/
LOCATION:Attard Youth Centre\, Attard Youth Centre\, Triq Ħal-Warda\, Attard\, Malta
CATEGORIES:Social
ATTACH;FMTTYPE=image/jpeg:https://youthreachmalta.org/wp-content/uploads/2018/04/Cranium-Night_facebook.jpg
ORGANIZER;CN="YouthReach":MAILTO:info@youthreachmalta.org
END:VEVENT
END:VCALENDAR