BEGIN:VCALENDAR
VERSION:2.0
PRODID:-//YouthReach Malta - ECPv5.1.2.1//NONSGML v1.0//EN
CALSCALE:GREGORIAN
METHOD:PUBLISH
X-WR-CALNAME:YouthReach Malta
X-ORIGINAL-URL:https://youthreachmalta.org
X-WR-CALDESC:Events for YouthReach Malta
BEGIN:VTIMEZONE
TZID:Europe/Malta
BEGIN:DAYLIGHT
TZOFFSETFROM:+0100
TZOFFSETTO:+0200
TZNAME:CEST
DTSTART:20200329T010000
END:DAYLIGHT
BEGIN:STANDARD
TZOFFSETFROM:+0200
TZOFFSETTO:+0100
TZNAME:CET
DTSTART:20201025T010000
END:STANDARD
END:VTIMEZONE
BEGIN:VEVENT
DTSTART;TZID=Europe/Malta:20200317T181500
DTEND;TZID=Europe/Malta:20200331T194500
DTSTAMP:20260425T172345
CREATED:20200224T184807Z
LAST-MODIFIED:20200229T101611Z
UID:4294-1584468900-1585683900@youthreachmalta.org
SUMMARY:Eżerċizzi għall-Adolexxenti 13 sa 17-il sena ~ Neżisti...jew ngħix?
DESCRIPTION:Gieli saqsejtu “Imma jien nezisti qieghed jew nghix?” Tafu x’inhi d-differenza? \n  \nDan ir-Randan\, inghaqdu ma’ YouthReach \, ghal ezercizzi mqassma fuq 3 ijiem; nhar ta’ Tlieta fis-17\, 24 u 31 ta’ Marzu 2020 biex inqattghu ftit hin flimkien\, niddiskutu u nirriflettu\, fuq l-irwol taghna bhala zghazagh fis-socjeta’ tal-lum. \n  \nSe jkollna maghna lil Fr. Jethro Bajada biex jghinna nwiegbu xi mistoqsijiet bhal: Jien min jien? X’nixtieq\, naghmel b’hajti? Qed naghmel dak li veru nixtieq\, jew qed nimxi fuq l-ideat li ghandu haddiehor ghalija? U fl-ahhar mill-ahhar\, min jista’ jghidli jien kif ghandi nqatta hajti? Hajti tieghi…allura mhux jien niddeciedi x’naghmel biha? \n  \nEta | 13 sa 17 – il sena \nDati | 17\, 24 u 31 ta’ Marzu \nHin | 18.15 sa 19.45 (jinkludi hin socjali flimkien) \nPost | Parquet Room\, Centru Parrokkjali Attard Narawkom! \n
URL:https://youthreachmalta.org/event/ezercizzi-ghall-adolexxenti-13-sa-17-il-sena-nezisti-jew-nghix/
LOCATION:Attard Parish Centre\, Attard Parish Centre\, Triq il-Kbira\, Attard\, Malta
CATEGORIES:Spiritual
ATTACH;FMTTYPE=image/png:https://youthreachmalta.org/wp-content/uploads/2020/02/Poster-png-1.png
ORGANIZER;CN="YouthReach":MAILTO:info@youthreachmalta.org
END:VEVENT
END:VCALENDAR