BEGIN:VCALENDAR
VERSION:2.0
PRODID:-//YouthReach Malta - ECPv5.1.2.1//NONSGML v1.0//EN
CALSCALE:GREGORIAN
METHOD:PUBLISH
X-WR-CALNAME:YouthReach Malta
X-ORIGINAL-URL:https://youthreachmalta.org
X-WR-CALDESC:Events for YouthReach Malta
BEGIN:VTIMEZONE
TZID:Europe/Malta
BEGIN:DAYLIGHT
TZOFFSETFROM:+0100
TZOFFSETTO:+0200
TZNAME:CEST
DTSTART:20180325T010000
END:DAYLIGHT
BEGIN:STANDARD
TZOFFSETFROM:+0200
TZOFFSETTO:+0100
TZNAME:CET
DTSTART:20181028T010000
END:STANDARD
END:VTIMEZONE
BEGIN:VEVENT
DTSTART;TZID=Europe/Malta:20180502T200000
DTEND;TZID=Europe/Malta:20180502T210000
DTSTAMP:20260420T052716
CREATED:20180328T172936Z
LAST-MODIFIED:20180424T193026Z
UID:3887-1525291200-1525294800@youthreachmalta.org
SUMMARY:Laqgħa mal-Isqof
DESCRIPTION:Bħala parti miż-żjara pastorali ta’ l-Isqof fil-paroċċa ta’ H’attard\, l-Erbgħa 2 ta’ Mejju ser ikun hemm djalogu dwar iż-żgħażagħ bejn iż-żgħażagħ infushom u l-Isqof. \nNistednukom tattendu! \n
URL:https://youthreachmalta.org/event/laqgha-mal-isqof/
LOCATION:Attard Youth Centre\, Attard Youth Centre\, Triq Ħal-Warda\, Attard\, Malta
CATEGORIES:Discussion
ATTACH;FMTTYPE=image/jpeg:https://youthreachmalta.org/wp-content/uploads/2018/03/31047808_1751116701615980_3715222538014490019_o.jpg
ORGANIZER;CN="YouthReach":MAILTO:info@youthreachmalta.org
END:VEVENT
END:VCALENDAR