BEGIN:VCALENDAR
VERSION:2.0
PRODID:-//YouthReach Malta - ECPv5.1.2.1//NONSGML v1.0//EN
CALSCALE:GREGORIAN
METHOD:PUBLISH
X-WR-CALNAME:YouthReach Malta
X-ORIGINAL-URL:https://youthreachmalta.org
X-WR-CALDESC:Events for YouthReach Malta
BEGIN:VTIMEZONE
TZID:Europe/Malta
BEGIN:DAYLIGHT
TZOFFSETFROM:+0100
TZOFFSETTO:+0200
TZNAME:CEST
DTSTART:20170326T010000
END:DAYLIGHT
BEGIN:STANDARD
TZOFFSETFROM:+0200
TZOFFSETTO:+0100
TZNAME:CET
DTSTART:20171029T010000
END:STANDARD
END:VTIMEZONE
BEGIN:VEVENT
DTSTART;TZID=Europe/Malta:20170720T203000
DTEND;TZID=Europe/Malta:20170720T220000
DTSTAMP:20260421T093404
CREATED:20170912T204447Z
LAST-MODIFIED:20170923T141724Z
UID:585-1500582600-1500588000@youthreachmalta.org
SUMMARY:Let's BBQ
DESCRIPTION:This week we’re having something social toegther. You just need to come there relax and spend some good time with friends. \nWe shall be doing a BBQ at our youth centre. Please bring your own food and leave the rest to us 🙂 \nCu Reachers! \n
URL:https://youthreachmalta.org/event/lets-bbq/
LOCATION:Attard Youth Centre\, Attard Youth Centre\, Triq Ħal-Warda\, Attard\, Malta
CATEGORIES:Social
ATTACH;FMTTYPE=image/jpeg:https://youthreachmalta.org/wp-content/uploads/2017/09/Lets-BBQ_facebook.jpg
ORGANIZER;CN="YouthReach":MAILTO:info@youthreachmalta.org
END:VEVENT
END:VCALENDAR