BEGIN:VCALENDAR
VERSION:2.0
PRODID:-//YouthReach Malta - ECPv5.1.2.1//NONSGML v1.0//EN
CALSCALE:GREGORIAN
METHOD:PUBLISH
X-WR-CALNAME:YouthReach Malta
X-ORIGINAL-URL:https://youthreachmalta.org
X-WR-CALDESC:Events for YouthReach Malta
BEGIN:VTIMEZONE
TZID:Europe/Malta
BEGIN:DAYLIGHT
TZOFFSETFROM:+0100
TZOFFSETTO:+0200
TZNAME:CEST
DTSTART:20170326T010000
END:DAYLIGHT
BEGIN:STANDARD
TZOFFSETFROM:+0200
TZOFFSETTO:+0100
TZNAME:CET
DTSTART:20171029T010000
END:STANDARD
END:VTIMEZONE
BEGIN:VEVENT
DTSTART;TZID=Europe/Malta:20171103T190000
DTEND;TZID=Europe/Malta:20171103T200000
DTSTAMP:20260422T090950
CREATED:20171030T083337Z
LAST-MODIFIED:20171103T231958Z
UID:2015-1509735600-1509739200@youthreachmalta.org
SUMMARY:Mewt jew Hajja? [Adorazzjoni]
DESCRIPTION:“Missier\, jekk inti trid\, warrab minni dan il-kalċi!  Iżda tkun magħmula r-rieda tiegħek\, u mhux tiegħi.”  Luqa 22:42 \nKliem tant qawwi u signifikanti fil-hajja taghna bhala insara. Kemm qeghdin nghixu dan? Kif inharsu lejn dak li jigi wara l-mewt? Kif qed nghixu din il-hajja temporanja fuq din l-art?\n Nhar il-Gimgha\, 3 ta’ Novembru\, YouthReach\, ser ikun qed imexxi adorazzjoni gewwa l-Knisja Parrokkjali Attard\, fis-7 ta’ filghaxija\, sabiex nirriflettu fuq il-mewt … jew il-hajja \n
URL:https://youthreachmalta.org/event/mewt-jew-hajja-adorazzjoni/
CATEGORIES:Spiritual
ATTACH;FMTTYPE=image/jpeg:https://youthreachmalta.org/wp-content/uploads/2017/11/Mewt-jew-Hajja-Adorazzjoni_facebook.jpg
ORGANIZER;CN="YouthReach":MAILTO:info@youthreachmalta.org
END:VEVENT
END:VCALENDAR