BEGIN:VCALENDAR
VERSION:2.0
PRODID:-//YouthReach Malta - ECPv5.1.2.1//NONSGML v1.0//EN
CALSCALE:GREGORIAN
METHOD:PUBLISH
X-WR-CALNAME:YouthReach Malta
X-ORIGINAL-URL:https://youthreachmalta.org
X-WR-CALDESC:Events for YouthReach Malta
BEGIN:VTIMEZONE
TZID:Europe/Malta
BEGIN:DAYLIGHT
TZOFFSETFROM:+0100
TZOFFSETTO:+0200
TZNAME:CEST
DTSTART:20180325T010000
END:DAYLIGHT
BEGIN:STANDARD
TZOFFSETFROM:+0200
TZOFFSETTO:+0100
TZNAME:CET
DTSTART:20181028T010000
END:STANDARD
END:VTIMEZONE
BEGIN:VEVENT
DTSTART;TZID=Europe/Malta:20180726T203000
DTEND;TZID=Europe/Malta:20180726T220000
DTSTAMP:20260420T132454
CREATED:20180605T195901Z
LAST-MODIFIED:20180719T112612Z
UID:3971-1532637000-1532642400@youthreachmalta.org
SUMMARY:Our Travel Experiences
DESCRIPTION:We all have travelled somewhere around the world…and its an amazing feeling xD  \nNext Thursday we will be sharing our experiences xD With you please get a memory from you favorite holiday and memories that we can share together 🙂  \nJoin us next Thursday 🙂 \n
URL:https://youthreachmalta.org/event/our-travel-experiences/
LOCATION:Attard Youth Centre\, Attard Youth Centre\, Triq Ħal-Warda\, Attard\, Malta
CATEGORIES:Discussion
ATTACH;FMTTYPE=image/jpeg:https://youthreachmalta.org/wp-content/uploads/2018/06/Travel-Experiences.jpg
ORGANIZER;CN="YouthReach":MAILTO:info@youthreachmalta.org
END:VEVENT
END:VCALENDAR