BEGIN:VCALENDAR
VERSION:2.0
PRODID:-//YouthReach Malta - ECPv5.1.2.1//NONSGML v1.0//EN
CALSCALE:GREGORIAN
METHOD:PUBLISH
X-WR-CALNAME:YouthReach Malta
X-ORIGINAL-URL:https://youthreachmalta.org
X-WR-CALDESC:Events for YouthReach Malta
BEGIN:VTIMEZONE
TZID:Europe/Malta
BEGIN:DAYLIGHT
TZOFFSETFROM:+0100
TZOFFSETTO:+0200
TZNAME:CEST
DTSTART:20200329T010000
END:DAYLIGHT
BEGIN:STANDARD
TZOFFSETFROM:+0200
TZOFFSETTO:+0100
TZNAME:CET
DTSTART:20201025T010000
END:STANDARD
END:VTIMEZONE
BEGIN:VEVENT
DTSTART;TZID=Europe/Malta:20201215T184500
DTEND;TZID=Europe/Malta:20201215T200000
DTSTAMP:20260421T094318
CREATED:20201110T134242Z
LAST-MODIFIED:20201209T201528Z
UID:4507-1608057900-1608062400@youthreachmalta.org
SUMMARY:YouthReach 13+ & 16+: Christmas Mass
DESCRIPTION:Reachers\,\nIt’s time for our Christmas mass all together! This year we shall be celebrating mass at St Catherine’s home grounds in Attard. We shall meet at 6.45 and by 8pm we ll be done so that we’ll have some social time too.\nGet your scarves and jackets \nMost importantly don’t forget your consent forms.\nLooking forward!\nHoping you had a good break from school yesterday \n
URL:https://youthreachmalta.org/event/youthreach-13-16-christmas-cave-mass/
LOCATION:Dar Santa Katerina Attard
CATEGORIES:General
ATTACH;FMTTYPE=image/jpeg:https://youthreachmalta.org/wp-content/uploads/2020/11/FB_IMG_1607544607692.jpg
ORGANIZER;CN="YouthReach":MAILTO:info@youthreachmalta.org
END:VEVENT
END:VCALENDAR