BEGIN:VCALENDAR
VERSION:2.0
PRODID:-//YouthReach Malta - ECPv5.1.2.1//NONSGML v1.0//EN
CALSCALE:GREGORIAN
METHOD:PUBLISH
X-WR-CALNAME:YouthReach Malta
X-ORIGINAL-URL:https://youthreachmalta.org
X-WR-CALDESC:Events for YouthReach Malta
BEGIN:VTIMEZONE
TZID:Europe/Malta
BEGIN:DAYLIGHT
TZOFFSETFROM:+0100
TZOFFSETTO:+0200
TZNAME:CEST
DTSTART:20210328T010000
END:DAYLIGHT
BEGIN:STANDARD
TZOFFSETFROM:+0200
TZOFFSETTO:+0100
TZNAME:CET
DTSTART:20211031T010000
END:STANDARD
END:VTIMEZONE
BEGIN:VEVENT
DTSTART;TZID=Europe/Malta:20210406T183000
DTEND;TZID=Europe/Malta:20210406T193000
DTSTAMP:20260420T132258
CREATED:20210327T082007Z
LAST-MODIFIED:20210628T075529Z
UID:4649-1617733800-1617737400@youthreachmalta.org
SUMMARY:YouthReach 13+ & 16+: Cooking session
DESCRIPTION:COVID won’t stop us from cooking!\nRecipe will be revealed soon\, stay tuned!\nZoom link will be sent via email. For those who are not members\, yet send us a private message and we will send you the link.\nSee you next week!\n\n**YouthReach is a youth community within the parish of Attard. We organize regular weekly meetings\, every Tuesday at 6.15pm for youths with ages 13 to 18**\n
URL:https://youthreachmalta.org/event/youthreach-13-16-cooking-session/
CATEGORIES:General
ATTACH;FMTTYPE=image/jpeg:https://youthreachmalta.org/wp-content/uploads/2021/03/cooking.jpg
ORGANIZER;CN="YouthReach":MAILTO:info@youthreachmalta.org
END:VEVENT
END:VCALENDAR