BEGIN:VCALENDAR
VERSION:2.0
PRODID:-//YouthReach Malta - ECPv5.1.2.1//NONSGML v1.0//EN
CALSCALE:GREGORIAN
METHOD:PUBLISH
X-WR-CALNAME:YouthReach Malta
X-ORIGINAL-URL:https://youthreachmalta.org
X-WR-CALDESC:Events for YouthReach Malta
BEGIN:VTIMEZONE
TZID:Europe/Malta
BEGIN:DAYLIGHT
TZOFFSETFROM:+0100
TZOFFSETTO:+0200
TZNAME:CEST
DTSTART:20210328T010000
END:DAYLIGHT
BEGIN:STANDARD
TZOFFSETFROM:+0200
TZOFFSETTO:+0100
TZNAME:CET
DTSTART:20211031T010000
END:STANDARD
END:VTIMEZONE
BEGIN:VEVENT
DTSTART;TZID=Europe/Malta:20210504T183000
DTEND;TZID=Europe/Malta:20210504T193000
DTSTAMP:20260420T102021
CREATED:20210510T143106Z
LAST-MODIFIED:20210510T143106Z
UID:4670-1620153000-1620156600@youthreachmalta.org
SUMMARY:YouthReach 13+ & 16+: Men vs Women
DESCRIPTION:Men’s brain is 10% larger than that of females however it seems that it does not impact intelligence.\n\nNext Tuesday we will have some time to battle brains: Men VS. Women whereby we will be debating a few topics and explore the different perspectives such as on:\nMen are better in decision making roles than women\nA woman has the sole decision in requesting an abortion\nMen make better sportsmen\nWorking women hinder their children’s development\n“Men and women have roles – their roles are different\, but their rights are equal” Harri Holkeri\n\n\nZoom link will be sent via email. For those who are not members yet\, send us a private message and we will send you the link.\n
URL:https://youthreachmalta.org/event/youthreach-13-16-men-vs-women/
ATTACH;FMTTYPE=image/jpeg:https://youthreachmalta.org/wp-content/uploads/2021/05/men-vs-women-2.jpg
ORGANIZER;CN="YouthReach":MAILTO:info@youthreachmalta.org
END:VEVENT
END:VCALENDAR