BEGIN:VCALENDAR
VERSION:2.0
PRODID:-//YouthReach Malta - ECPv5.1.2.1//NONSGML v1.0//EN
CALSCALE:GREGORIAN
METHOD:PUBLISH
X-WR-CALNAME:YouthReach Malta
X-ORIGINAL-URL:https://youthreachmalta.org
X-WR-CALDESC:Events for YouthReach Malta
BEGIN:VTIMEZONE
TZID:Europe/Malta
BEGIN:DAYLIGHT
TZOFFSETFROM:+0100
TZOFFSETTO:+0200
TZNAME:CEST
DTSTART:20220327T010000
END:DAYLIGHT
BEGIN:STANDARD
TZOFFSETFROM:+0200
TZOFFSETTO:+0100
TZNAME:CET
DTSTART:20221030T010000
END:STANDARD
END:VTIMEZONE
BEGIN:VEVENT
DTSTART;TZID=Europe/Malta:20220426T181500
DTEND;TZID=Europe/Malta:20220426T194500
DTSTAMP:20260419T210815
CREATED:20220328T180546Z
LAST-MODIFIED:20220423T122717Z
UID:5673-1650996900-1651002300@youthreachmalta.org
SUMMARY:YouthReach 13+ & 16+: Influencer
DESCRIPTION:There are many who have worked closely with young people throughout their careers and have certainly made a positive impact in their lives. We can all learn from each other in sharing life experiences. It will be a very interesting meeting. See you \n… \n**YouthReach is a youth community within the parish of Attard. We organize regular weekly meetings\, every Tuesday at 6.15pm for youths with ages 13 to 18** \n
URL:https://youthreachmalta.org/event/youthreach-13-hangman-3/
LOCATION:Attard Parish Centre\, Attard Parish Centre\, Triq il-Kbira\, Attard\, Malta
CATEGORIES:General
ATTACH;FMTTYPE=image/jpeg:https://youthreachmalta.org/wp-content/uploads/2021/09/PicsArt_08-27-07.57.27.jpg
ORGANIZER;CN="YouthReach":MAILTO:info@youthreachmalta.org
END:VEVENT
END:VCALENDAR